BEGIN:VCALENDAR
VERSION:2.0
PRODID:-//https://www.ciudadreal.es//NONSGML kigkonsult.se iCalcreator 2.29
 .29//
CALSCALE:GREGORIAN
METHOD:PUBLISH
UID:afb8137f-1e14-4958-9ea6-f01b1120ad41
X-WR-CALNAME:JCal Pro Calendar
X-WR-CALDESC:Tu calendario de eventos online.
X-WR-TIMEZONE:Europe/Madrid
BEGIN:VTIMEZONE
TZID:Europe/Madrid
BEGIN:STANDARD
TZNAME:CET
DTSTART:20251026T030000
TZOFFSETFROM:+0200
TZOFFSETTO:+0100
RDATE:20261025T030000
END:STANDARD
BEGIN:DAYLIGHT
TZNAME:CEST
DTSTART:20260329T020000
TZOFFSETFROM:+0100
TZOFFSETTO:+0200
RDATE:20270328T020000
END:DAYLIGHT
END:VTIMEZONE
BEGIN:VEVENT
UID:20251226T100000CET-5584IddrCu@https://www.ciudadreal.es/
DTSTAMP:20260423T031615Z
CATEGORIES:Deporte
DESCRIPTION:<p>A cargo de: CLUB BMNO CASERÍO CIUDAD REAL<br data-start='526
 ' data-end='529' /> Lugar: PARQUE DE GASSET<br data-start='552' data-end='
 555' /> Fecha y hora: Viernes 26 de diciembre de 2025\, 10:00 a 14:00 h</p
 >\n<hr />\n<p><em class='pdf'><a href='documentos/cultura/2025/ACTIVIDADES
 _NAVIDAD_Del_22-dic_al_3-ene.pdf' target='_blank'>Actividades Navidad del 
 22 de Diciembre 2025 al 03 de Enero 2026&gt\;&gt\;</a></em></p>
DTSTART;TZID=Europe/Madrid:20251226T100000
DTEND;TZID=Europe/Madrid:20251226T140000
SUMMARY:BALONMANO EN LA CALLE
URL:https://www.ciudadreal.es/agenda-turismo/83-deporte/20808-balonmano-en-
 la-calle.html
X-ALT-DESC;FMTTYPE=TEXT/HTML:<p>A cargo de: CLUB BMNO CASERÍO CIUDAD REAL<b
 r data-start='526' data-end='529' /> Lugar: PARQUE DE GASSET<br data-start
 ='552' data-end='555' /> Fecha y hora: Viernes 26 de diciembre de 2025\, 1
 0:00 a 14:00 h</p>\n<hr />\n<p><em class='pdf'><a href='documentos/cultura
 /2025/ACTIVIDADES_NAVIDAD_Del_22-dic_al_3-ene.pdf' target='_blank'>Activid
 ades Navidad del 22 de Diciembre 2025 al 03 de Enero 2026&gt\;&gt\;</a></e
 m></p>
END:VEVENT
END:VCALENDAR
