BEGIN:VCALENDAR
VERSION:2.0
PRODID:-//https://www.ciudadreal.es//NONSGML kigkonsult.se iCalcreator 2.29
 .29//
CALSCALE:GREGORIAN
METHOD:PUBLISH
UID:2f628070-2a24-45b5-af07-15a331bad333
X-WR-CALNAME:JCal Pro Calendar
X-WR-CALDESC:Tu calendario de eventos online.
X-WR-TIMEZONE:Europe/Madrid
BEGIN:VTIMEZONE
TZID:Europe/Madrid
BEGIN:STANDARD
TZNAME:CET
DTSTART:20251026T030000
TZOFFSETFROM:+0200
TZOFFSETTO:+0100
RDATE:20261025T030000
END:STANDARD
BEGIN:DAYLIGHT
TZNAME:CEST
DTSTART:20260329T020000
TZOFFSETFROM:+0100
TZOFFSETTO:+0200
RDATE:20270328T020000
END:DAYLIGHT
END:VTIMEZONE
BEGIN:VEVENT
UID:20251122T093000CET-4356hLjS6L@https://www.ciudadreal.es/
DTSTAMP:20260425T141028Z
CATEGORIES:Deporte
DESCRIPTION:<p>Lugar: Pabellón El Parque – Pabellón<br data-start='8608' da
 ta-end='8611' /> Fecha y hora: 22/11/2025 – 9:30 h<a href='http://www.unie
 ntradas.es' target='_new' rel='noopener' class='decorated-link' data-start
 ='4082' data-end='4100'></a></p>\n<hr />\n<p><em class='pdf'><a href='docu
 mentos/cultura/2025/2025_AGENDA_DEPORTIVA_FS_21-22-23_noviembre.pdf' targe
 t='_blank'>Agenda Deportiva &gt\;&gt\;</a></em></p>
DTSTART;TZID=Europe/Madrid:20251122T093000
DTEND;TZID=Europe/Madrid:20251122T093000
SUMMARY:BALONMANO 09 ALEVÍN MASCULINO: BM CASERIO 2014 – PRADO-MARIANISTAS 
 C
URL:https://www.ciudadreal.es/agenda-turismo/83-deporte/20784-balonmano-09-
 alevin-masculino-bm-caserio-2014-prado-marianistas-c.html
X-ALT-DESC;FMTTYPE=TEXT/HTML:<p>Lugar: Pabellón El Parque – Pabellón<br dat
 a-start='8608' data-end='8611' /> Fecha y hora: 22/11/2025 – 9:30 h<a href
 ='http://www.unientradas.es' target='_new' rel='noopener' class='decorated
 -link' data-start='4082' data-end='4100'></a></p>\n<hr />\n<p><em class='p
 df'><a href='documentos/cultura/2025/2025_AGENDA_DEPORTIVA_FS_21-22-23_nov
 iembre.pdf' target='_blank'>Agenda Deportiva &gt\;&gt\;</a></em></p>
END:VEVENT
END:VCALENDAR
