BEGIN:VCALENDAR
VERSION:2.0
PRODID:-//https://www.ciudadreal.es//NONSGML kigkonsult.se iCalcreator 2.29
 .29//
CALSCALE:GREGORIAN
METHOD:PUBLISH
UID:8763874c-59ed-4110-860e-2f76f32f94ad
X-WR-CALNAME:JCal Pro Calendar
X-WR-CALDESC:Tu calendario de eventos online.
X-WR-TIMEZONE:Europe/Madrid
BEGIN:VTIMEZONE
TZID:Europe/Madrid
BEGIN:STANDARD
TZNAME:CET
DTSTART:20251026T030000
TZOFFSETFROM:+0200
TZOFFSETTO:+0100
RDATE:20261025T030000
END:STANDARD
BEGIN:DAYLIGHT
TZNAME:CEST
DTSTART:20260329T020000
TZOFFSETFROM:+0100
TZOFFSETTO:+0200
RDATE:20270328T020000
END:DAYLIGHT
END:VTIMEZONE
BEGIN:VEVENT
UID:20251121T163000CET-6122ADaBMK@https://www.ciudadreal.es/
DTSTAMP:20260425T161010Z
CATEGORIES:Deporte
DESCRIPTION:<p>Lugar: Ciudad Deportiva Sur – Campo B<br data-start='7922' d
 ata-end='7925' /> Fecha y hora: 21/11/2025 – 16:30 h<a href='http://www.un
 ientradas.es' target='_new' rel='noopener' class='decorated-link' data-sta
 rt='4082' data-end='4100'></a></p>\n<hr />\n<p><em class='pdf'><a href='do
 cumentos/cultura/2025/2025_AGENDA_DEPORTIVA_FS_21-22-23_noviembre.pdf' tar
 get='_blank'>Agenda Deportiva &gt\;&gt\;</a></em></p>
DTSTART;TZID=Europe/Madrid:20251121T163000
DTEND;TZID=Europe/Madrid:20251121T163000
SUMMARY:FÚTBOL 09 ALEVÍN MASCULINO: C.D. CIUDAD REAL F. C. ALEVÍN AMARILLO 
 – C.D. CIUDAD REAL F. C. ALEVÍN MARRÓN
URL:https://www.ciudadreal.es/agenda-turismo/83-deporte/20780-futbol-09-ale
 vin-masculino-c-d-ciudad-real-f-c-alevin-amarillo-c-d-ciudad-real-f-c-alev
 in-marron.html
X-ALT-DESC;FMTTYPE=TEXT/HTML:<p>Lugar: Ciudad Deportiva Sur – Campo B<br da
 ta-start='7922' data-end='7925' /> Fecha y hora: 21/11/2025 – 16:30 h<a hr
 ef='http://www.unientradas.es' target='_new' rel='noopener' class='decorat
 ed-link' data-start='4082' data-end='4100'></a></p>\n<hr />\n<p><em class=
 'pdf'><a href='documentos/cultura/2025/2025_AGENDA_DEPORTIVA_FS_21-22-23_n
 oviembre.pdf' target='_blank'>Agenda Deportiva &gt\;&gt\;</a></em></p>
END:VEVENT
END:VCALENDAR
