BEGIN:VCALENDAR
VERSION:2.0
PRODID:-//https://www.ciudadreal.es//NONSGML kigkonsult.se iCalcreator 2.29
 .29//
CALSCALE:GREGORIAN
METHOD:PUBLISH
UID:44647d9e-40dc-44b7-9d26-9900ed96108d
X-WR-CALNAME:JCal Pro Calendar
X-WR-CALDESC:Tu calendario de eventos online.
X-WR-TIMEZONE:Europe/Madrid
BEGIN:VTIMEZONE
TZID:Europe/Madrid
BEGIN:STANDARD
TZNAME:CET
DTSTART:20251026T030000
TZOFFSETFROM:+0200
TZOFFSETTO:+0100
RDATE:20261025T030000
END:STANDARD
BEGIN:DAYLIGHT
TZNAME:CEST
DTSTART:20260329T020000
TZOFFSETFROM:+0100
TZOFFSETTO:+0200
RDATE:20270328T020000
END:DAYLIGHT
END:VTIMEZONE
BEGIN:VEVENT
UID:20251116T160000CET-0339XuNjIv@https://www.ciudadreal.es/
DTSTAMP:20260426T010126Z
CATEGORIES:Deporte
DESCRIPTION:<p>A cargo de: Basket Cervantes Ciudad Real y CB UCA Albacete<b
 r data-start='4698' data-end='4701' /> Lugar: Pabellón Rey Felipe VI – Pab
 ellón<br data-start='4741' data-end='4744' /> Fecha y hora: Domingo 16 de 
 noviembre de 2025\, 16:00 h</p>\n<hr />\n<p><em class='pdf'><a href='docum
 entos/cultura/2025/2025_AGENDA_DEPORTIVA_FS_14-15-16_noviembre.pdf' target
 ='_blank'>Agenda Deportiva&gt\;&gt\;</a></em></p>
DTSTART;TZID=Europe/Madrid:20251116T160000
DTEND;TZID=Europe/Madrid:20251116T160000
SUMMARY:BALONCESTO JUNIOR U19 FEMENINO: BASKET CERVANTES CIUDAD REAL – CB U
 CA ALBACETE
URL:https://www.ciudadreal.es/agenda-turismo/83-deporte/20720-baloncesto-ju
 nior-u19-femenino-basket-cervantes-ciudad-real-cb-uca-albacete.html
X-ALT-DESC;FMTTYPE=TEXT/HTML:<p>A cargo de: Basket Cervantes Ciudad Real y 
 CB UCA Albacete<br data-start='4698' data-end='4701' /> Lugar: Pabellón Re
 y Felipe VI – Pabellón<br data-start='4741' data-end='4744' /> Fecha y hor
 a: Domingo 16 de noviembre de 2025\, 16:00 h</p>\n<hr />\n<p><em class='pd
 f'><a href='documentos/cultura/2025/2025_AGENDA_DEPORTIVA_FS_14-15-16_novi
 embre.pdf' target='_blank'>Agenda Deportiva&gt\;&gt\;</a></em></p>
END:VEVENT
END:VCALENDAR
